BEGIN:VCALENDAR
VERSION:2.0
PRODID:-//Bretagne Vivante - ECPv6.15.18//NONSGML v1.0//EN
CALSCALE:GREGORIAN
METHOD:PUBLISH
X-ORIGINAL-URL:https://www.bretagne-vivante.org
X-WR-CALDESC:Évènements pour Bretagne Vivante
REFRESH-INTERVAL;VALUE=DURATION:PT1H
X-Robots-Tag:noindex
X-PUBLISHED-TTL:PT1H
BEGIN:VTIMEZONE
TZID:Europe/Paris
BEGIN:DAYLIGHT
TZOFFSETFROM:+0100
TZOFFSETTO:+0200
TZNAME:CEST
DTSTART:20240331T010000
END:DAYLIGHT
BEGIN:STANDARD
TZOFFSETFROM:+0200
TZOFFSETTO:+0100
TZNAME:CET
DTSTART:20241027T010000
END:STANDARD
BEGIN:DAYLIGHT
TZOFFSETFROM:+0100
TZOFFSETTO:+0200
TZNAME:CEST
DTSTART:20250330T010000
END:DAYLIGHT
BEGIN:STANDARD
TZOFFSETFROM:+0200
TZOFFSETTO:+0100
TZNAME:CET
DTSTART:20251026T010000
END:STANDARD
BEGIN:DAYLIGHT
TZOFFSETFROM:+0100
TZOFFSETTO:+0200
TZNAME:CEST
DTSTART:20260329T010000
END:DAYLIGHT
BEGIN:STANDARD
TZOFFSETFROM:+0200
TZOFFSETTO:+0100
TZNAME:CET
DTSTART:20261025T010000
END:STANDARD
BEGIN:DAYLIGHT
TZOFFSETFROM:+0100
TZOFFSETTO:+0200
TZNAME:CEST
DTSTART:20270328T010000
END:DAYLIGHT
BEGIN:STANDARD
TZOFFSETFROM:+0200
TZOFFSETTO:+0100
TZNAME:CET
DTSTART:20271031T010000
END:STANDARD
END:VTIMEZONE
BEGIN:VEVENT
DTSTART;TZID=Europe/Paris:20260111T090000
DTEND;TZID=Europe/Paris:20260111T130000
DTSTAMP:20260420T112617
CREATED:20250916T071954Z
LAST-MODIFIED:20251117T101042Z
UID:10005196-1768122000-1768136400@www.bretagne-vivante.org
SUMMARY:Chantier nature de la réserve naturelle des marais de Séné (56)
DESCRIPTION:Envie d’agir pour la nature ? \nParticipez à nos chantiers nature sur la réserve et aidez-nous à restaurer des milieux humides exceptionnels ! \nGrâce à des actions de débroussaillage et de fauche\, nous allons rouvrir ces habitats essentiels pour la reproduction des oiseaux nicheurs. \nVenez partager un moment convivial et solidaire ! Votre aide est précieuse\, nous comptons sur vous. Rejoignez-nous ! \n  \nINFOS PRATIQUES :\nGratuit et sans réservation\nRendez-vous à 9h au Centre Nature de la réserve naturelle \nMatériel indispensable : bottes\, gants de jardin et tenue adaptée\nMatériel facultatif : outil de coupe si vous en avez (coupe-branches\, sécateurs…). Du matériel de la réserve naturelle sera à disposition.
URL:https://www.bretagne-vivante.org/agenda/chantier-nature-de-la-reserve-naturelle-des-marais-de-sene-3/
LOCATION:Réserve naturelle des marais de Séné\, Route de Brouel\, Séné\, 56860\, France
ATTACH;FMTTYPE=image/png:https://www.bretagne-vivante.org/wp-content/uploads/2025/09/Chantier.png
ORGANIZER;CN="R%C3%A9serve naturelle des marais de S%C3%A9n%C3%A9":MAILTO:reserve-naturelle@sene.bzh
END:VEVENT
BEGIN:VEVENT
DTSTART;TZID=Europe/Paris:20251230T143000
DTEND;TZID=Europe/Paris:20251230T170000
DTSTAMP:20260420T112617
CREATED:20251120T151918Z
LAST-MODIFIED:20251127T093016Z
UID:10005314-1767105000-1767114000@www.bretagne-vivante.org
SUMMARY:Les oiseaux hivernants de la réserve de Séné (56)
DESCRIPTION:En hiver\, la réserve naturelle devient un lieu de halte privilégié pour de nombreux oiseaux d’eau hivernants : canards\, limicoles… viennent s’y reposer et se nourrir. Accompagné d’un animateur nature\, vous découvrirez comment ces espèces s’adaptent aux marées et aux rythmes saisonniers. Cette sortie vous permettra d’apprendre à reconnaître les principaux oiseaux hivernants tout en profitant de l’ambiance particulière de fin de journée. \n\nCette sortie ne convient pas aux enfants de moins de 7 ans.\nLes réservations ne seront pas remboursées.\n\n==> Inscription obligatoire sur ce lien <== \nContact : \nreserve-naturelle@sene.bzh \nTél : 0297669276
URL:https://www.bretagne-vivante.org/agenda/les-oiseaux-hivernants-de-la-reserve-de-sene-56/
LOCATION:Réserve naturelle des marais de Séné\, Route de Brouel\, Séné\, 56860\, France
ATTACH;FMTTYPE=image/jpeg:https://www.bretagne-vivante.org/wp-content/uploads/2025/11/Canard_siffleur_0615_FHemery-scaled.jpg
ORGANIZER;CN="R%C3%A9serve naturelle des marais de S%C3%A9n%C3%A9":MAILTO:reserve-naturelle@sene.bzh
END:VEVENT
BEGIN:VEVENT
DTSTART;TZID=Europe/Paris:20251229T143000
DTEND;TZID=Europe/Paris:20251229T170000
DTSTAMP:20260420T112617
CREATED:20251120T152507Z
LAST-MODIFIED:20251127T092758Z
UID:10005316-1767018600-1767027600@www.bretagne-vivante.org
SUMMARY:Les oiseaux hivernants de la réserve de Séné (56)
DESCRIPTION:En hiver\, la réserve naturelle devient un lieu de halte privilégié pour de nombreux oiseaux d’eau hivernants : canards\, limicoles… viennent s’y reposer et se nourrir. Accompagné d’un animateur nature\, vous découvrirez comment ces espèces s’adaptent aux marées et aux rythmes saisonniers. Cette sortie vous permettra d’apprendre à reconnaître les principaux oiseaux hivernants tout en profitant de l’ambiance particulière de fin de journée. \n\nCette sortie ne convient pas aux enfants de moins de 7 ans.\nLes réservations ne seront pas remboursées.\n\n==> Inscription obligatoire sur ce lien <== \nContact : \nreserve-naturelle@sene.bzh \nTél : 0297669276
URL:https://www.bretagne-vivante.org/agenda/les-oiseaux-hivernants-de-la-reserve-de-sene-56-3/
LOCATION:Réserve naturelle des marais de Séné\, Route de Brouel\, Séné\, 56860\, France
ATTACH;FMTTYPE=image/jpeg:https://www.bretagne-vivante.org/wp-content/uploads/2025/11/DSC_6769-scaled.jpg
ORGANIZER;CN="R%C3%A9serve naturelle des marais de S%C3%A9n%C3%A9":MAILTO:reserve-naturelle@sene.bzh
END:VEVENT
BEGIN:VEVENT
DTSTART;TZID=Europe/Paris:20251229T093000
DTEND;TZID=Europe/Paris:20251229T120000
DTSTAMP:20260420T112617
CREATED:20251127T092413Z
LAST-MODIFIED:20251127T092443Z
UID:10005337-1767000600-1767009600@www.bretagne-vivante.org
SUMMARY:Balade nature hivernale sur les marais de Pen en Toul - Larmor Baden (56)
DESCRIPTION:En hiver\, le marais de Pen en Toul devient un lieu de halte privilégié pour de nombreux oiseaux d’eau hivernants : canards\, limicoles… viennent s’y reposer et se nourrir. Le temps d’une balade et accompagné d’un animateur nature\, vous découvrirez comment ces espèces s’adaptent aux marées et aux rythmes saisonniers. Cette sortie vous permettra d’apprendre à reconnaître les principaux oiseaux et de profiter de l’ambiance hivernale des lieux. \n==> Inscription obligatoire sur ce lien <== \nContact : \nreserve-naturelle@sene.bzh \nTél : 02 97 66 92 76
URL:https://www.bretagne-vivante.org/agenda/balade-nature-hivernale-sur-les-marais-de-pen-en-toul-larmor-baden-56/
LOCATION:Marais de Pen en Toul\, Rue Gilles Rio\, Larmor Baden\, 56870\, France
ATTACH;FMTTYPE=image/jpeg:https://www.bretagne-vivante.org/wp-content/uploads/2025/11/20251007_200222-scaled.jpg
ORGANIZER;CN="R%C3%A9serve naturelle des marais de S%C3%A9n%C3%A9":MAILTO:reserve-naturelle@sene.bzh
END:VEVENT
BEGIN:VEVENT
DTSTART;TZID=Europe/Paris:20251223T100000
DTEND;TZID=Europe/Paris:20251223T123000
DTSTAMP:20260420T112617
CREATED:20251121T090633Z
LAST-MODIFIED:20251127T093107Z
UID:10005317-1766484000-1766493000@www.bretagne-vivante.org
SUMMARY:Le banquet des oiseaux hivernants / Saint-Armel (56)
DESCRIPTION:À marée basse\, la vasière de Saint-Armel s’anime : des centaines d’oiseaux venus du nord de l’Europe viennent s’y nourrir. Accompagné d’un animateur\, découvrez les secrets de ces hivernants qui rythment l’hiver du Golfe du Morbihan. \n\nCette sortie ne convient pas aux enfants de moins de 7 ans.\nLes réservations ne seront pas remboursées.\n\n==> Inscription obligatoire sur ce lien <== \nContact : \nreserve-naturelle@sene.bzh \nTél : 0297669276
URL:https://www.bretagne-vivante.org/agenda/le-banquet-des-oiseaux-hivernants-saint-armel-56/
LOCATION:Bretagne historique
ATTACH;FMTTYPE=image/jpeg:https://www.bretagne-vivante.org/wp-content/uploads/2025/11/ABE_9716-scaled.jpeg
ORGANIZER;CN="R%C3%A9serve naturelle des marais de S%C3%A9n%C3%A9":MAILTO:reserve-naturelle@sene.bzh
END:VEVENT
BEGIN:VEVENT
DTSTART;TZID=Europe/Paris:20251222T143000
DTEND;TZID=Europe/Paris:20251222T170000
DTSTAMP:20260420T112617
CREATED:20251120T152313Z
LAST-MODIFIED:20251127T092851Z
UID:10005315-1766413800-1766422800@www.bretagne-vivante.org
SUMMARY:Les oiseaux hivernants de la réserve de Séné (56)
DESCRIPTION:En hiver\, la réserve naturelle devient un lieu de halte privilégié pour de nombreux oiseaux d’eau hivernants : canards\, limicoles… viennent s’y reposer et se nourrir. Accompagné d’un animateur nature\, vous découvrirez comment ces espèces s’adaptent aux marées et aux rythmes saisonniers. Cette sortie vous permettra d’apprendre à reconnaître les principaux oiseaux hivernants tout en profitant de l’ambiance particulière de fin de journée. \n\nCette sortie ne convient pas aux enfants de moins de 7 ans.\nLes réservations ne seront pas remboursées.\n\n==> Inscription obligatoire sur ce lien <== \nContact : \nreserve-naturelle@sene.bzh \nTél : 0297669276
URL:https://www.bretagne-vivante.org/agenda/les-oiseaux-hivernants-de-la-reserve-de-sene-56-2/
LOCATION:Réserve naturelle des marais de Séné\, Route de Brouel\, Séné\, 56860\, France
ATTACH;FMTTYPE=image/jpeg:https://www.bretagne-vivante.org/wp-content/uploads/2025/11/DSC_4328-scaled.jpg
ORGANIZER;CN="R%C3%A9serve naturelle des marais de S%C3%A9n%C3%A9":MAILTO:reserve-naturelle@sene.bzh
END:VEVENT
BEGIN:VEVENT
DTSTART;TZID=Europe/Paris:20251222T103000
DTEND;TZID=Europe/Paris:20251222T120000
DTSTAMP:20260420T112617
CREATED:20251121T092809Z
LAST-MODIFIED:20251127T092651Z
UID:10005319-1766399400-1766404800@www.bretagne-vivante.org
SUMMARY:A la recherche des oiseaux qui passent l'hiver... / Séné (56)
DESCRIPTION:Même en hiver\, la réserve s’anime ! Partez en balade\, afin d’aider notre cher naturaliste à retrouver les oiseaux qui restent pour la saison froide et pour quelle raison sont-ils là. Histoire\, marionnettes\, observations et approches sensorielles… Une sortie pleine de découvertes pour explorer la nature en toute saison. \n\nLes réservations ne seront pas remboursées.\nSortie destinée à des enfants de 3 à 6 ans.\nEnfants accompagnés obligatoirement d’un adulte\nLe nombre d’adultes accompagnateurs pour un enfant est limité à deux adultes.\n\n==> Inscription obligatoire sur ce lien <== \nContact : \nreserve-naturelle@sene.bzh \nTél : 0297669276
URL:https://www.bretagne-vivante.org/agenda/a-la-recherche-des-oiseaux-qui-passent-lhiver-sene-56/
LOCATION:Réserve naturelle des marais de Séné\, Route de Brouel\, Séné\, 56860\, France
ATTACH;FMTTYPE=image/png:https://www.bretagne-vivante.org/wp-content/uploads/2025/11/dfszesf.png
ORGANIZER;CN="R%C3%A9serve naturelle des marais de S%C3%A9n%C3%A9":MAILTO:reserve-naturelle@sene.bzh
END:VEVENT
BEGIN:VEVENT
DTSTART;TZID=Europe/Paris:20251214T090000
DTEND;TZID=Europe/Paris:20251214T130000
DTSTAMP:20260420T112617
CREATED:20250916T071840Z
LAST-MODIFIED:20250916T071840Z
UID:10005195-1765702800-1765717200@www.bretagne-vivante.org
SUMMARY:Chantier nature de la réserve naturelle des marais de Séné
DESCRIPTION:Envie d’agir pour la nature ? \nParticipez à nos chantiers nature sur la réserve et aidez-nous à restaurer des milieux humides exceptionnels ! \nGrâce à des actions de débroussaillage et de fauche\, nous allons rouvrir ces habitats essentiels pour la reproduction des oiseaux nicheurs. \nVenez partager un moment convivial et solidaire ! Votre aide est précieuse\, nous comptons sur vous. Rejoignez-nous ! \n  \nINFOS PRATIQUES :\nGratuit et sans réservation\nRendez-vous à 9h au Centre Nature de la réserve naturelle \nMatériel indispensable : bottes\, gants de jardin et tenue adaptée\nMatériel facultatif : outil de coupe si vous en avez (coupe-branches\, sécateurs…). Du matériel de la réserve naturelle sera à disposition.
URL:https://www.bretagne-vivante.org/agenda/chantier-nature-de-la-reserve-naturelle-des-marais-de-sene-2/
LOCATION:Réserve naturelle des marais de Séné\, Route de Brouel\, Séné\, 56860\, France
ATTACH;FMTTYPE=image/png:https://www.bretagne-vivante.org/wp-content/uploads/2025/09/Chantier.png
ORGANIZER;CN="R%C3%A9serve naturelle des marais de S%C3%A9n%C3%A9":MAILTO:reserve-naturelle@sene.bzh
END:VEVENT
BEGIN:VEVENT
DTSTART;TZID=Europe/Paris:20251109T090000
DTEND;TZID=Europe/Paris:20251109T130000
DTSTAMP:20260420T112617
CREATED:20250916T071511Z
LAST-MODIFIED:20250916T071709Z
UID:10005194-1762678800-1762693200@www.bretagne-vivante.org
SUMMARY:Chantier nature de la réserve naturelle des marais de Séné
DESCRIPTION:Envie d’agir pour la nature ? \nParticipez à nos chantiers nature sur la réserve et aidez-nous à restaurer des milieux humides exceptionnels ! \nGrâce à des actions de débroussaillage et de fauche\, nous allons rouvrir ces habitats essentiels pour la reproduction des oiseaux nicheurs. \nVenez partager un moment convivial et solidaire ! Votre aide est précieuse\, nous comptons sur vous. Rejoignez-nous ! \n  \nINFOS PRATIQUES :\nGratuit et sans réservation\nRendez-vous à 9h au Centre Nature de la réserve naturelle \nMatériel indispensable : bottes\, gants de jardin et tenue adaptée\nMatériel facultatif : outil de coupe si vous en avez (coupe-branches\, sécateurs…). Du matériel de la réserve naturelle sera à disposition.
URL:https://www.bretagne-vivante.org/agenda/chantier-nature-de-la-reserve-naturelle-des-marais-de-sene/
LOCATION:Réserve naturelle des marais de Séné\, Route de Brouel\, Séné\, 56860\, France
ATTACH;FMTTYPE=image/png:https://www.bretagne-vivante.org/wp-content/uploads/2025/09/Chantier.png
ORGANIZER;CN="R%C3%A9serve naturelle des marais de S%C3%A9n%C3%A9":MAILTO:reserve-naturelle@sene.bzh
END:VEVENT
BEGIN:VEVENT
DTSTART;TZID=Europe/Paris:20251030T093000
DTEND;TZID=Europe/Paris:20251030T120000
DTSTAMP:20260420T112617
CREATED:20250911T114407Z
LAST-MODIFIED:20250911T114407Z
UID:10005189-1761816600-1761825600@www.bretagne-vivante.org
SUMMARY:Balade nature au Hézo : paysages et oiseaux migrateurs
DESCRIPTION:À l’automne\, le Hézo dévoile toute sa diversité naturelle. Au cours de cette balade guidée\, vous découvrirez les différents habitats qui composent le paysage : vasières\, prés salés\, marais\, zones boisées… Chacun accueille une faune spécifique\, et notamment de nombreux oiseaux migrateurs venus passer l’hiver. Accompagné d’un animateur nature\, observez canards\, limicoles et autres hivernants\, apprenez à les identifier et à comprendre leurs comportements au fil des marées et des saisons.  \n==> Inscription obligatoire sur ce lien <== \nContact : \nreserve-naturelle@sene.bzh \nTél : 0297669276 \n  \nCrédit photo : F.Hémery
URL:https://www.bretagne-vivante.org/agenda/balade-nature-au-hezo-paysages-et-oiseaux-migrateurs/
LOCATION:Le Hézo\, Rue Clos Forne\, Le Hézo\, 56450
ATTACH;FMTTYPE=image/jpeg:https://www.bretagne-vivante.org/wp-content/uploads/2025/09/Courlis_cendre_6366_FHemery-scaled.jpg
ORGANIZER;CN="R%C3%A9serve naturelle des marais de S%C3%A9n%C3%A9":MAILTO:reserve-naturelle@sene.bzh
END:VEVENT
BEGIN:VEVENT
DTSTART;TZID=Europe/Paris:20251029T143000
DTEND;TZID=Europe/Paris:20251029T170000
DTSTAMP:20260420T112617
CREATED:20251014T084409Z
LAST-MODIFIED:20251014T084409Z
UID:10005263-1761748200-1761757200@www.bretagne-vivante.org
SUMMARY:Mystères de la Tourbière
DESCRIPTION:Explorez les landes et tourbières d’un site naturel protégé ! Ouvrez l’œil pour observer oiseaux\, plantes étonnantes et petites bêtes discrètes. Des anecdotes surprenantes viendront bousculer les idées reçues sur les animaux à mauvaise réputation… et pour nourrir l’imaginaire\, laissez-vous emporter par contes et histoires inspiré de la nature. \nBottes obligatoire – Prévoyez des vêtements qui correspondent à la météo\, des chaussures fermées et des bottes (les chemins sont peut être humide\, et la végétation peut être dure et épineuse). \nSortie destinée à un public familial (à partir de 6 ans) \n==> Inscription obligatoire sur ce lien <== \nContact : \nreserve-naturelle@sene.bzh \nTél : 0297669276
URL:https://www.bretagne-vivante.org/agenda/mysteres-de-la-tourbiere/
LOCATION:Tourbière de Kerfontaine\, Kerfontaine\, Sérent\, 56460
ATTACH;FMTTYPE=image/png:https://www.bretagne-vivante.org/wp-content/uploads/2025/10/Serentaffiche-1.png
ORGANIZER;CN="R%C3%A9serve naturelle des marais de S%C3%A9n%C3%A9":MAILTO:reserve-naturelle@sene.bzh
END:VEVENT
BEGIN:VEVENT
DTSTART;TZID=Europe/Paris:20251027T093000
DTEND;TZID=Europe/Paris:20251027T120000
DTSTAMP:20260420T112617
CREATED:20250911T113125Z
LAST-MODIFIED:20250911T113125Z
UID:10005187-1761557400-1761566400@www.bretagne-vivante.org
SUMMARY:Balade au rythme des marées et des hivernants
DESCRIPTION:Accompagnez-nous pour une découverte des oiseaux hivernants du golfe du Morbihan. Entre l’anse de Baden et l’étang de Toulvern\, nous observerons canards\, limicoles et autres espèces qui trouvent refuge ici en hiver.\nAu rythme des marées\, nous verrons comment ces milieux façonnent la vie des oiseaux entre repos et quête de nourriture. \n==> Inscription obligatoire sur ce lien <== \nContact : \nreserve-naturelle@sene.bzh \nTél : 0297669276 \n  \nCrédit photo : F.Hémery
URL:https://www.bretagne-vivante.org/agenda/balade-au-rythme-des-marees-et-des-hivernants/
LOCATION:Baden
ATTACH;FMTTYPE=image/jpeg:https://www.bretagne-vivante.org/wp-content/uploads/2025/09/Canard_siffleur_0580_FHemery-scaled.jpg
ORGANIZER;CN="R%C3%A9serve naturelle des marais de S%C3%A9n%C3%A9":MAILTO:reserve-naturelle@sene.bzh
END:VEVENT
BEGIN:VEVENT
DTSTART;TZID=Europe/Paris:20251023T093000
DTEND;TZID=Europe/Paris:20251023T120000
DTSTAMP:20260420T112617
CREATED:20250911T105203Z
LAST-MODIFIED:20250911T113229Z
UID:10005186-1761211800-1761220800@www.bretagne-vivante.org
SUMMARY:Le banquet des oiseaux migrateurs
DESCRIPTION:Quand l’eau se retire\, les marais s’animent ! Sur la vasière de Saint-Colombier\, des centaines d’oiseaux venus du nord de l’Europe se rassemblent pour se nourrir. Venez vivre ce moment unique aux côtés d’un animateur nature et découvrez les secrets de ces hivernants qui rythment l’automne et l’hiver sur le Golfe du Morbihan. \n==> Inscription obligatoire sur ce lien <== \nContact : \nreserve-naturelle@sene.bzh \nTél : 0297669276 \n  \nCrédit photo : F.Hémery
URL:https://www.bretagne-vivante.org/agenda/le-banquet-des-oiseaux-migrateurs/
LOCATION:Saint Colombier\, Rue Odientz\, Sarzeau\, 56370\, France
ATTACH;FMTTYPE=image/jpeg:https://www.bretagne-vivante.org/wp-content/uploads/2025/09/Barge_queue_noire_7137_FHemery-scaled.jpg
ORGANIZER;CN="R%C3%A9serve naturelle des marais de S%C3%A9n%C3%A9":MAILTO:reserve-naturelle@sene.bzh
END:VEVENT
BEGIN:VEVENT
DTSTART;TZID=Europe/Paris:20251020T170000
DTEND;TZID=Europe/Paris:20251020T193000
DTSTAMP:20260420T112617
CREATED:20250911T104052Z
LAST-MODIFIED:20250911T113259Z
UID:10005185-1760979600-1760988600@www.bretagne-vivante.org
SUMMARY:Les oiseaux hivernants des marais au crépuscule
DESCRIPTION:En automne\, la réserve naturelle devient un lieu de halte privilégié pour de nombreux oiseaux d’eau hivernants : canards\, limicoles… viennent s’y reposer et se nourrir. Accompagné d’un animateur nature\, vous découvrirez comment ces espèces s’adaptent aux marées et aux rythmes saisonniers. Cette sortie vous permettra d’apprendre à reconnaître les principaux oiseaux migrateurs tout en profitant de l’ambiance particulière de la fin de journée. \n==> Inscription obligatoire sur ce lien <== \nContact : \nreserve-naturelle@sene.bzh \nTél : 0297669276
URL:https://www.bretagne-vivante.org/agenda/les-oiseaux-hivernants-des-marais-au-crepuscule/
LOCATION:Réserve naturelle des marais de Séné\, Route de Brouel\, Séné\, 56860\, France
ATTACH;FMTTYPE=image/jpeg:https://www.bretagne-vivante.org/wp-content/uploads/2025/09/Bassin_B16RNS_2014-12-30_GG-scaled.jpg
ORGANIZER;CN="R%C3%A9serve naturelle des marais de S%C3%A9n%C3%A9":MAILTO:reserve-naturelle@sene.bzh
END:VEVENT
END:VCALENDAR