BEGIN:VCALENDAR
VERSION:2.0
PRODID:-//Bretagne Vivante - ECPv6.15.18//NONSGML v1.0//EN
CALSCALE:GREGORIAN
METHOD:PUBLISH
X-WR-CALNAME:Bretagne Vivante
X-ORIGINAL-URL:https://www.bretagne-vivante.org
X-WR-CALDESC:Évènements pour Bretagne Vivante
REFRESH-INTERVAL;VALUE=DURATION:PT1H
X-Robots-Tag:noindex
X-PUBLISHED-TTL:PT1H
BEGIN:VTIMEZONE
TZID:Europe/Paris
BEGIN:DAYLIGHT
TZOFFSETFROM:+0100
TZOFFSETTO:+0200
TZNAME:CEST
DTSTART:20250330T010000
END:DAYLIGHT
BEGIN:STANDARD
TZOFFSETFROM:+0200
TZOFFSETTO:+0100
TZNAME:CET
DTSTART:20251026T010000
END:STANDARD
BEGIN:DAYLIGHT
TZOFFSETFROM:+0100
TZOFFSETTO:+0200
TZNAME:CEST
DTSTART:20260329T010000
END:DAYLIGHT
BEGIN:STANDARD
TZOFFSETFROM:+0200
TZOFFSETTO:+0100
TZNAME:CET
DTSTART:20261025T010000
END:STANDARD
BEGIN:DAYLIGHT
TZOFFSETFROM:+0100
TZOFFSETTO:+0200
TZNAME:CEST
DTSTART:20270328T010000
END:DAYLIGHT
BEGIN:STANDARD
TZOFFSETFROM:+0200
TZOFFSETTO:+0100
TZNAME:CET
DTSTART:20271031T010000
END:STANDARD
END:VTIMEZONE
BEGIN:VEVENT
DTSTART;TZID=Europe/Paris:20260420T093000
DTEND;TZID=Europe/Paris:20260420T120000
DTSTAMP:20260420T013442
CREATED:20260416T140333Z
LAST-MODIFIED:20260416T140531Z
UID:10005555-1776677400-1776686400@www.bretagne-vivante.org
SUMMARY:Sortie découverte des oiseaux : Le retour des oiseaux nicheurs - Riantec (56)
DESCRIPTION:La sortie découverte des oiseaux propose une immersion au cœur des milieux naturels pour mieux comprendre l’avifaune locale. Au fil de l’observation\, nous apprendrons à identifier les espèces par leurs chants\, leurs critères morphologiques et leurs comportements\, tout en abordant les notions d’habitat\, de saisonnalité et d’écologie. Une approche naturaliste pour affiner son regard et approfondir sa connaissance du vivant. \nMatériel : jumelles\, longues-vues et guides fournis. \nLe lieu de rdv précis sera communiqué par téléphone (sms) la veille de la sortie. \nPrévoir une tenue et des chaussures adaptées. vous pouvez apporter votre matériel si vous souhaitez. \n==> Inscription obligatoire sur ce lien <==
URL:https://www.bretagne-vivante.org/agenda/sortie-decouverte-des-oiseaux-le-retour-des-oiseaux-nicheurs/
LOCATION:Bretagne historique
ATTACH;FMTTYPE=image/jpeg:https://www.bretagne-vivante.org/wp-content/uploads/2026/04/Le-Programme-des-vacances-dAvril-KERNER.jpg
END:VEVENT
BEGIN:VEVENT
DTSTART;TZID=Europe/Paris:20260420T100000
DTEND;TZID=Europe/Paris:20260420T120000
DTSTAMP:20260420T013442
CREATED:20260407T143851Z
LAST-MODIFIED:20260407T143851Z
UID:10005545-1776679200-1776686400@www.bretagne-vivante.org
SUMMARY:Découverte botanique des bords de chemins à Groix (56)
DESCRIPTION:Venez découvrir la diversité des plantes à fleurs de l’île de Groix lors d’une promenade commentée… Comment reconnait-on les familles ? Quelles différences entre les prairies et les pelouses ? Quel est le nom des plantes des landes de Groix ? Quelles associations entre invertébrés et plantes? Une invitation à s’initier à la botanique quel que soit votre intérêt\, simples curieu.ses.x ou botanistes en herbes \n\n\n\nVous vous intéressez à la flore des bords de chemins\, de talus ou de votre jardin? \nVenez découvrir la diversité des plantes à fleurs de l’île de Groix lors d’une promenade commentée… Comment reconnait-on les familles ? Quelles différences entre les prairies et les pelouses ? Quel est le nom des plantes des landes de Groix ? Quelles associations entre invertébrés et plantes? \nUne invitation à s’initier à la botanique quel que soit votre intérêt\, simples curieu.ses.x ou botanistes en herbe\, vous êtes les bienvenues. \nCette sortie prendra la forme d’une boucle au départ de Port Saint-Nicolas (Parking en haut de Port Saint-Nicolas\, tout droit sur l’unique route carrossable à la sortie de Quéhello) \nCet itinéraire passe sur le sentier côtier\, veillez à avoir de bonnes chaussures\, de l’eau et de la crème solaire si le soleil est de la partie. \nSi vous avez des loupes et des guides de détermination n’hésitez pas à les prendre.
URL:https://www.bretagne-vivante.org/agenda/decouverte-botanique-des-bords-de-chemins-a-groix-56/
LOCATION:Maison de la Réserve naturelle de Groix\, Créhal\, Groix\, 56590\, France
ATTACH;FMTTYPE=image/jpeg:https://www.bretagne-vivante.org/wp-content/uploads/2025/03/2020.04.16_nombril-de-venus_Lea-Trifault_002-scaled.jpg
ORGANIZER;CN="R%C3%A9serve Naturelle Nationale Fran%C3%A7ois le Bail Ile de Groix":MAILTO:rn-groix@bretagne-vivante.org
END:VEVENT
BEGIN:VEVENT
DTSTART;TZID=Europe/Paris:20260420T173000
DTEND;TZID=Europe/Paris:20260420T183000
DTSTAMP:20260420T013442
CREATED:20260310T160312Z
LAST-MODIFIED:20260310T160312Z
UID:10005503-1776706200-1776709800@www.bretagne-vivante.org
SUMMARY:Activité araignées en salle (35)
DESCRIPTION:Nous vous donnons rendez-vous le lundi 20 avril pour une activité araignées à la MCE (48 boulevard Magenta\, Rennes) de 17h30 à 18h30. \n—————————————— \nInscriptions à l’adresse : morganedumas187@gmail.com
URL:https://www.bretagne-vivante.org/agenda/activite-araignees-en-salle-35/
LOCATION:Bretagne historique
ATTACH;FMTTYPE=image/jpeg:https://www.bretagne-vivante.org/wp-content/uploads/2026/03/1000053960.jpg
END:VEVENT
END:VCALENDAR